BEGIN:VCALENDAR
X-LOTUS-CHARSET:UTF-8
VERSION:2.0
PRODID:4WsNetdesignCalendar-st-ursula-freiburg.de
METHOD:PUBLISH
CALSCALE:GREGORIAN
X-WR-TIMEZONE:Europe/Berlin
BEGIN:VTIMEZONE
TZID:Europe/Berlin
X-LIC-LOCATION:Europe/Berlin
BEGIN:DAYLIGHT
TZOFFSETFROM:+0100
TZOFFSETTO:+0200
TZNAME:CEST
DTSTART:19700329T020000
RRULE:FREQ=YEARLY;INTERVAL=1;BYDAY=-1SU;BYMONTH=3
END:DAYLIGHT
BEGIN:STANDARD
TZOFFSETFROM:+0200
TZOFFSETTO:+0100
TZNAME:CET
DTSTART:19701025T030000
RRULE:FREQ=YEARLY;INTERVAL=1;BYDAY=-1SU;BYMONTH=10
END:STANDARD
END:VTIMEZONE
BEGIN:VEVENT
UID:stursulaoverview45645a27c4f1adc8a7a835976064a86d@st-ursula-freiburg.de
CLASS:PUBLIC
DTSTAMP:20260420T140722Z
LAST-MODIFIED:20241108T190149Z
DTSTART;VALUE=DATE:20250505
DTEND;VALUE=DATE:20350731
SUMMARY:Q4 - viertes Quartal - Wahlmodule - Klassenstufe 9
END:VEVENT
BEGIN:VEVENT
UID:stursulaoverviewd58072be2820e8682c0a27c0518e805e@st-ursula-freiburg.de
CLASS:PUBLIC
DTSTAMP:20260420T140722Z
LAST-MODIFIED:20251114T124753Z
DTSTART;VALUE=DATE:20260202
DTEND;VALUE=DATE:20260501
SUMMARY:Q3 - drittes Quartal - FLZ Klasse 5/6 - Wahlmodule -
  Klasse 9
END:VEVENT
BEGIN:VEVENT
UID:stursulaoverview81e74d678581a3bb7a720b019f4f1a93@st-ursula-freiburg.de
CLASS:PUBLIC
DTSTAMP:20260420T140722Z
LAST-MODIFIED:20251114T124504Z
DTSTART;VALUE=DATE:20260417
DTEND;VALUE=DATE:20260509
SUMMARY:Schriftliche Abiturprüfungen 2026
END:VEVENT
BEGIN:VEVENT
UID:stursulaoverviewd554f7bb7be44a7267068a7df88ddd20@st-ursula-freiburg.de
CLASS:PUBLIC
DTSTAMP:20260420T140722Z
LAST-MODIFIED:20251114T125351Z
DTSTART:20260420T130000Z
DTEND:20260420T132000Z
SUMMARY:"Achtsame Pause" vor der GLK in der Kapelle
END:VEVENT
BEGIN:VEVENT
UID:stursulaoverviewfa3a3c407f82377f55c19c5d403335c7@st-ursula-freiburg.de
CLASS:PUBLIC
DTSTAMP:20260420T140722Z
LAST-MODIFIED:20260123T131246Z
DTSTART:20260420T133000Z
DTEND:20260420T160000Z
SUMMARY:GLK
END:VEVENT
BEGIN:VEVENT
UID:stursulaoverview8e82ab7243b7c66d768f1b8ce1c967eb@st-ursula-freiburg.de
CLASS:PUBLIC
DTSTAMP:20260420T140722Z
LAST-MODIFIED:20260130T125917Z
DTSTART:20260422T173000Z
DTEND:20260422T193000Z
SUMMARY:2. Elternabend Klasse 5 und 6
END:VEVENT
BEGIN:VEVENT
UID:stursulaoverview1e056d2b0ebd5c878c550da6ac5d3724@st-ursula-freiburg.de
CLASS:PUBLIC
DTSTAMP:20260420T140722Z
LAST-MODIFIED:20260123T131149Z
DTSTART;VALUE=DATE:20260423
DTEND;VALUE=DATE:20260424
SUMMARY:Girl´s and Boy´s Day (Teilnahme freiwillig)
END:VEVENT
BEGIN:VEVENT
UID:stursulaoverview7250eb93b3c18cc9daa29cf58af7a004@st-ursula-freiburg.de
CLASS:PUBLIC
DTSTAMP:20260420T140722Z
LAST-MODIFIED:20251114T125538Z
DTSTART:20260423T173000Z
DTEND:20260423T193000Z
SUMMARY:2. Elternabend Klasse 7 und 8
END:VEVENT
BEGIN:VEVENT
UID:stursulaoverview3e89ebdb49f712c7d90d1b39e348bbbf@st-ursula-freiburg.de
CLASS:PUBLIC
DTSTAMP:20260420T140722Z
LAST-MODIFIED:20260123T131221Z
DTSTART;VALUE=DATE:20260424
DTEND;VALUE=DATE:20260426
SUMMARY:Wen-Do-Kurs für Schülerinnen der Klassenstufe 5
END:VEVENT
BEGIN:VEVENT
UID:stursulaoverview6d0f846348a856321729a2f36734d1a7@st-ursula-freiburg.de
CLASS:PUBLIC
DTSTAMP:20260420T140722Z
LAST-MODIFIED:20260123T131423Z
DTSTART:20260425T073000Z
DTEND:20260425T103000Z
SUMMARY:Probenvormittag der Chöre des St. Ursula Gymnasiums
  (ELLEF+Vocals)
END:VEVENT
BEGIN:VEVENT
UID:stursulaoverview4d5b995358e7798bc7e9d9db83c612a5@st-ursula-freiburg.de
CLASS:PUBLIC
DTSTAMP:20260420T140722Z
LAST-MODIFIED:20251114T125608Z
DTSTART:20260427T085500Z
DTEND:20260427T092500Z
SUMMARY:Verfügungsstunde
END:VEVENT
BEGIN:VEVENT
UID:stursulaoverviewb0b183c207f46f0cca7dc63b2604f5cc@st-ursula-freiburg.de
CLASS:PUBLIC
DTSTAMP:20260420T140722Z
LAST-MODIFIED:20260123T131444Z
DTSTART:20260429T060000Z
DTEND:20260429T160000Z
SUMMARY:Seminarkurs SIA - Ganztägige Exkursion zur DHBW
END:VEVENT
BEGIN:VEVENT
UID:stursulaoverview02a32ad2669e6fe298e607fe7cc0e1a0@st-ursula-freiburg.de
CLASS:PUBLIC
DTSTAMP:20260420T140722Z
LAST-MODIFIED:20251114T125755Z
DTSTART:20260429T173000Z
DTEND:20260429T193000Z
SUMMARY:2. Elternabend Klasse 9 und 10
END:VEVENT
BEGIN:VEVENT
UID:stursulaoverview2ca65f58e35d9ad45bf7f3ae5cfd08f1@st-ursula-freiburg.de
CLASS:PUBLIC
DTSTAMP:20260420T140722Z
LAST-MODIFIED:20251114T122348Z
DTSTART;VALUE=DATE:20260501
DTEND;VALUE=DATE:20260504
SUMMARY:1.Mai-Tag der Arbeit-langes Wochenende
END:VEVENT
BEGIN:VEVENT
UID:stursulaoverview5807a685d1a9ab3b599035bc566ce2b9@st-ursula-freiburg.de
CLASS:PUBLIC
DTSTAMP:20260420T140722Z
LAST-MODIFIED:20251114T122621Z
DTSTART;VALUE=DATE:20260504
DTEND;VALUE=DATE:20260523
SUMMARY:Nachtermin: Schriftliche Abiturprüfungen 2026
END:VEVENT
BEGIN:VEVENT
UID:stursulaoverview06997f04a7db92466a2baa6ebc8b872d@st-ursula-freiburg.de
CLASS:PUBLIC
DTSTAMP:20260420T140722Z
LAST-MODIFIED:20251114T122538Z
DTSTART;VALUE=DATE:20260504
DTEND;VALUE=DATE:20260730
SUMMARY:Q4- viertes Quartal - FLZ Klasse 5/6 - Wahlmodule -
  Klasse 9
END:VEVENT
BEGIN:VEVENT
UID:stursulaoverviewd840cc5d906c3e9c84374c8919d2074e@st-ursula-freiburg.de
CLASS:PUBLIC
DTSTAMP:20260420T140722Z
LAST-MODIFIED:20251114T122715Z
DTSTART:20260504T070000Z
DTEND:20260504T100000Z
SUMMARY:Nachtermin: Schriftliche Latinumsprüfung 2026
END:VEVENT
BEGIN:VEVENT
UID:stursulaoverview430c3626b879b4005d41b8a46172e0c0@st-ursula-freiburg.de
CLASS:PUBLIC
DTSTAMP:20260420T140722Z
LAST-MODIFIED:20260130T130551Z
DTSTART:20260505T173000Z
DTEND:20260505T190000Z
SUMMARY:Elternbeiratssitzung aller Elternvertreter :innen
END:VEVENT
BEGIN:VEVENT
UID:stursulaoverview3a835d3215755c435ef4fe9965a3f2a0@st-ursula-freiburg.de
CLASS:PUBLIC
DTSTAMP:20260420T140722Z
LAST-MODIFIED:20251114T122806Z
DTSTART:20260506T093000Z
DTEND:20260506T101500Z
SUMMARY:Schülerinnenratssitzungen
END:VEVENT
BEGIN:VEVENT
UID:stursulaoverview288cc0ff022877bd3df94bc9360b9c5d@st-ursula-freiburg.de
CLASS:PUBLIC
DTSTAMP:20260420T140722Z
LAST-MODIFIED:20251114T122836Z
DTSTART:20260506T160000Z
SUMMARY:Schulkonferenz
END:VEVENT
BEGIN:VEVENT
UID:stursulaoverviewccc0aa1b81bf81e16c676ddb977c5881@st-ursula-freiburg.de
CLASS:PUBLIC
DTSTAMP:20260420T140722Z
LAST-MODIFIED:20260130T130821Z
DTSTART;VALUE=DATE:20260507
DTEND;VALUE=DATE:20260515
SUMMARY:Malága-Austausch-Empfang der Spanier in Freiburg
END:VEVENT
BEGIN:VEVENT
UID:stursulaoverviewe57c6b956a6521b28495f2886ca0977a@st-ursula-freiburg.de
CLASS:PUBLIC
DTSTAMP:20260420T140722Z
LAST-MODIFIED:20251114T122952Z
DTSTART;VALUE=DATE:20260508
DTEND;VALUE=DATE:20260516
SUMMARY:Avingnon - Austausch - Empfang der Französischen
  Gäste in Freiburg
END:VEVENT
BEGIN:VEVENT
UID:stursulaoverviewc0f168ce8900fa56e57789e2a2f2c9d0@st-ursula-freiburg.de
CLASS:PUBLIC
DTSTAMP:20260420T140722Z
LAST-MODIFIED:20260130T130936Z
DTSTART;VALUE=DATE:20260511
DTEND;VALUE=DATE:20260519
SUMMARY:Probewoche der Theater AG (zweites Projekt)
END:VEVENT
BEGIN:VEVENT
UID:stursulaoverviewf1c1592588411002af340cbaedd6fc33@st-ursula-freiburg.de
CLASS:PUBLIC
DTSTAMP:20260420T140722Z
LAST-MODIFIED:20251114T123129Z
DTSTART;VALUE=DATE:20260511
DTEND;VALUE=DATE:20260512
SUMMARY:Wiederbeginn des Unterrichts für die K2
END:VEVENT
BEGIN:VEVENT
UID:stursulaoverviewe07413354875be01a996dc560274708e@st-ursula-freiburg.de
CLASS:PUBLIC
DTSTAMP:20260420T140722Z
LAST-MODIFIED:20251114T123158Z
DTSTART:20260511T085500Z
DTEND:20260511T092500Z
SUMMARY:Verfügungsstunde
END:VEVENT
BEGIN:VEVENT
UID:stursulaoverview7143d7fbadfa4693b9eec507d9d37443@st-ursula-freiburg.de
CLASS:PUBLIC
DTSTAMP:20260420T140722Z
LAST-MODIFIED:20251114T123342Z
DTSTART:20260511T110000Z
SUMMARY:Abgabe der Erstkorrekturen bei der SL- Prüfungen
  bis einschl. 30.04
END:VEVENT
BEGIN:VEVENT
UID:stursulaoverview6e0721b2c6977135b916ef286bcb49ec@st-ursula-freiburg.de
CLASS:PUBLIC
DTSTAMP:20260420T140722Z
LAST-MODIFIED:20251114T123419Z
DTSTART;VALUE=DATE:20260514
DTEND;VALUE=DATE:20260515
SUMMARY:Christi Himmelfahrt- Feiertag
END:VEVENT
BEGIN:VEVENT
UID:stursulaoverview61b4a64be663682e8cb037d9719ad8cd@st-ursula-freiburg.de
CLASS:PUBLIC
DTSTAMP:20260420T140722Z
LAST-MODIFIED:20251114T123510Z
DTSTART:20260518T110000Z
SUMMARY:Abgabe der Erstkorrekturen bei der SL- Prüfungen ab
  einschl. 06.05. 2026
END:VEVENT
BEGIN:VEVENT
UID:stursulaoverview68053af2923e00204c3ca7c6a3150cf7@st-ursula-freiburg.de
CLASS:PUBLIC
DTSTAMP:20260420T140722Z
LAST-MODIFIED:20260130T131147Z
DTSTART:20260519T173000Z
DTEND:20260519T193000Z
SUMMARY:Premiere der Theater-AG (zweites Projekt)
END:VEVENT
BEGIN:VEVENT
UID:stursulaoverviewdf7f28ac89ca37bf1abd2f6c184fe1cf@st-ursula-freiburg.de
CLASS:PUBLIC
DTSTAMP:20260420T140722Z
LAST-MODIFIED:20260130T131239Z
DTSTART:20260520T093000Z
DTEND:20260520T110000Z
SUMMARY:Schulvorstellung der Theater-AG (zweites Projekt)
END:VEVENT
BEGIN:VEVENT
UID:stursulaoverview82489c9737cc245530c7a6ebef3753ec@st-ursula-freiburg.de
CLASS:PUBLIC
DTSTAMP:20260420T140722Z
LAST-MODIFIED:20260130T131412Z
DTSTART:20260521T173000Z
DTEND:20260521T193000Z
SUMMARY:Derniere der Theater-AG (zweites Projekt)
END:VEVENT
BEGIN:VEVENT
UID:stursulaoverview35cf8659cfcb13224cbd47863a34fc58@st-ursula-freiburg.de
CLASS:PUBLIC
DTSTAMP:20260420T140722Z
LAST-MODIFIED:20251114T123754Z
DTSTART;VALUE=DATE:20260523
DTEND;VALUE=DATE:20260608
SUMMARY:Pfingstferien
END:VEVENT
BEGIN:VEVENT
UID:stursulaoverviewbeb22fb694d513edcf5533cf006dfeae@st-ursula-freiburg.de
CLASS:PUBLIC
DTSTAMP:20260420T140722Z
LAST-MODIFIED:20251114T130046Z
DTSTART;VALUE=DATE:20260608
DTEND;VALUE=DATE:20260616
SUMMARY:Avignon Austausch  - Fahrt unserer Schülerinnen
  nach Villeneuve-les-Avignon
END:VEVENT
BEGIN:VEVENT
UID:stursulaoverview9e3cfc48eccf81a0d57663e129aef3cb@st-ursula-freiburg.de
CLASS:PUBLIC
DTSTAMP:20260420T140722Z
LAST-MODIFIED:20251114T130235Z
DTSTART;VALUE=DATE:20260608
DTEND;VALUE=DATE:20260616
SUMMARY:Paris-Austausch - Fahrt unserer Schülerinnen nach
  Paris
END:VEVENT
BEGIN:VEVENT
UID:stursulaoverviewf4552671f8909587cf485ea990207f3b@st-ursula-freiburg.de
CLASS:PUBLIC
DTSTAMP:20260420T140722Z
LAST-MODIFIED:20251114T130310Z
DTSTART:20260608T085500Z
DTEND:20260608T092500Z
SUMMARY:Verfügungsstunde
END:VEVENT
BEGIN:VEVENT
UID:stursulaoverview1905aedab9bf2477edc068a355bba31a@st-ursula-freiburg.de
CLASS:PUBLIC
DTSTAMP:20260420T140722Z
LAST-MODIFIED:20251114T130327Z
DTSTART;VALUE=DATE:20260609
DTEND;VALUE=DATE:20260620
SUMMARY:Erlebnistage für die 8. Klassen
END:VEVENT
BEGIN:VEVENT
UID:stursulaoverviewdc5689792e08eb2e219dce49e64c885b@st-ursula-freiburg.de
CLASS:PUBLIC
DTSTAMP:20260420T140722Z
LAST-MODIFIED:20251114T130348Z
DTSTART;VALUE=DATE:20260609
DTEND;VALUE=DATE:20260611
SUMMARY:Kommunikationsprüfungen-moderne
  Fremdsprachen-Abitur 2026
END:VEVENT
BEGIN:VEVENT
UID:stursulaoverview846c260d715e5b854ffad5f70a516c88@st-ursula-freiburg.de
CLASS:PUBLIC
DTSTAMP:20260420T140722Z
LAST-MODIFIED:20251114T130225Z
DTSTART:20260609T110000Z
SUMMARY:Abgabe der Zweitkorrekturen bei der SL- Prüfungen
END:VEVENT
BEGIN:VEVENT
UID:stursulaoverview6e7b33fdea3adc80ebd648fffb665bb8@st-ursula-freiburg.de
CLASS:PUBLIC
DTSTAMP:20260420T140722Z
LAST-MODIFIED:20251114T130158Z
DTSTART;VALUE=DATE:20260611
DTEND;VALUE=DATE:20260615
SUMMARY:Taize-Fahrt für die Schülerinnen der Klassenstufen
  10-12
END:VEVENT
BEGIN:VEVENT
UID:stursulaoverviewa8ecbabae151abacba7dbde04f761c37@st-ursula-freiburg.de
CLASS:PUBLIC
DTSTAMP:20260420T140722Z
LAST-MODIFIED:20251114T125109Z
DTSTART:20260612T083000Z
DTEND:20260612T091500Z
SUMMARY:Assembly
END:VEVENT
BEGIN:VEVENT
UID:stursulaoverview670e8a43b246801ca1eaca97b3e19189@st-ursula-freiburg.de
CLASS:PUBLIC
DTSTAMP:20260420T140722Z
LAST-MODIFIED:20251114T130432Z
DTSTART;VALUE=DATE:20260616
DTEND;VALUE=DATE:20260617
SUMMARY:Generalprobenvormittag-Sommerkonzert-US-AGs
END:VEVENT
BEGIN:VEVENT
UID:stursulaoverview96b9bff013acedfb1d140579e2fbeb63@st-ursula-freiburg.de
CLASS:PUBLIC
DTSTAMP:20260420T140722Z
LAST-MODIFIED:20251114T130625Z
DTSTART;VALUE=DATE:20260617
DTEND;VALUE=DATE:20260618
SUMMARY:Generalprobenvormittag-Sommerkonzert-alle mus. AGs
  außer US-AGs
END:VEVENT
BEGIN:VEVENT
UID:stursulaoverview795c7a7a5ec6b460ec00c5841019b9e9@st-ursula-freiburg.de
CLASS:PUBLIC
DTSTAMP:20260420T140722Z
LAST-MODIFIED:20251114T125420Z
DTSTART;VALUE=DATE:20260617
DTEND;VALUE=DATE:20260618
SUMMARY:1. Sommerkonzert
END:VEVENT
BEGIN:VEVENT
UID:stursulaoverview362e80d4df43b03ae6d3f8540cd63626@st-ursula-freiburg.de
CLASS:PUBLIC
DTSTAMP:20260420T140722Z
LAST-MODIFIED:20251114T130609Z
DTSTART:20260617T110000Z
SUMMARY:Abgabe der Drittkorrekturen bei der SL- Prüfungen
END:VEVENT
BEGIN:VEVENT
UID:stursulaoverviewce78d1da254c0843eb23951ae077ff5f@st-ursula-freiburg.de
CLASS:PUBLIC
DTSTAMP:20260420T140722Z
LAST-MODIFIED:20251114T125438Z
DTSTART;VALUE=DATE:20260618
DTEND;VALUE=DATE:20260619
SUMMARY:2. Sommerkonzert
END:VEVENT
BEGIN:VEVENT
UID:stursulaoverview301ad0e3bd5cb1627a2044908a42fdc2@st-ursula-freiburg.de
CLASS:PUBLIC
DTSTAMP:20260420T140722Z
LAST-MODIFIED:20251114T130007Z
DTSTART:20260618T160000Z
DTEND:20260618T180000Z
SUMMARY:Preisverleihung Schreibwettbewerb
END:VEVENT
BEGIN:VEVENT
UID:stursulaoverviewfe8c15fed5f808006ce95eddb7366e35@st-ursula-freiburg.de
CLASS:PUBLIC
DTSTAMP:20260420T140722Z
LAST-MODIFIED:20251114T130707Z
DTSTART:20260619T110000Z
SUMMARY:Noteneintrag 12
END:VEVENT
BEGIN:VEVENT
UID:stursulaoverviewfa83a11a198d5a7f0bf77a1987bcd006@st-ursula-freiburg.de
CLASS:PUBLIC
DTSTAMP:20260420T140722Z
LAST-MODIFIED:20251114T130031Z
DTSTART:20260622T085500Z
DTEND:20260622T092500Z
SUMMARY:Verfügungsstunde
END:VEVENT
BEGIN:VEVENT
UID:stursulaoverview1efa39bcaec6f3900149160693694536@st-ursula-freiburg.de
CLASS:PUBLIC
DTSTAMP:20260420T140722Z
LAST-MODIFIED:20251114T130743Z
DTSTART:20260622T101500Z
DTEND:20260622T110000Z
SUMMARY:Notenkonferenz 12.2
END:VEVENT
BEGIN:VEVENT
UID:stursulaoverview22ac3c5a5bf0b520d281c122d1490650@st-ursula-freiburg.de
CLASS:PUBLIC
DTSTAMP:20260420T140722Z
LAST-MODIFIED:20251114T130923Z
DTSTART:20260622T130000Z
DTEND:20260622T132000Z
SUMMARY:"Achtsame Pause" vor der GLK in der Kapelle
END:VEVENT
BEGIN:VEVENT
UID:stursulaoverview92fb0c6d1758261f10d052e6e2c1123c@st-ursula-freiburg.de
CLASS:PUBLIC
DTSTAMP:20260420T140722Z
LAST-MODIFIED:20251114T130817Z
DTSTART:20260622T133000Z
DTEND:20260622T160000Z
SUMMARY:GLK
END:VEVENT
BEGIN:VEVENT
UID:stursulaoverviewaff1621254f7c1be92f64550478c56e6@st-ursula-freiburg.de
CLASS:PUBLIC
DTSTAMP:20260420T140722Z
LAST-MODIFIED:20251114T131004Z
DTSTART:20260624T055000Z
DTEND:20260624T110000Z
SUMMARY:Sporttag der Klassenstufe 7
END:VEVENT
BEGIN:VEVENT
UID:stursulaoverviewf7e9050c92a851b0016442ab604b0488@st-ursula-freiburg.de
CLASS:PUBLIC
DTSTAMP:20260420T140722Z
LAST-MODIFIED:20251114T131055Z
DTSTART:20260626T074000Z
SUMMARY:Zeugnisausgabe 12/ Bekanntgabe der schriftlichen
  Prüfungsergebnisse
END:VEVENT
BEGIN:VEVENT
UID:stursulaoverviewb86e8d03fe992d1b0e19656875ee557c@st-ursula-freiburg.de
CLASS:PUBLIC
DTSTAMP:20260420T140722Z
LAST-MODIFIED:20251114T130139Z
DTSTART;VALUE=DATE:20260629
DTEND;VALUE=DATE:20260702
SUMMARY:Mündliche Abiturprüfung 2026 am Gymnasium
  Kenzingen
END:VEVENT
BEGIN:VEVENT
UID:stursulaoverview3d8e28caf901313a554cebc7d32e67e5@st-ursula-freiburg.de
CLASS:PUBLIC
DTSTAMP:20260420T140722Z
LAST-MODIFIED:20251114T130029Z
DTSTART;VALUE=DATE:20260702
DTEND;VALUE=DATE:20260703
SUMMARY:Mündliche Abiturprüfung 2026 am St. Ursula
END:VEVENT
BEGIN:VEVENT
UID:stursulaoverviewe97ee2054defb209c35fe4dc94599061@st-ursula-freiburg.de
CLASS:PUBLIC
DTSTAMP:20260420T140722Z
LAST-MODIFIED:20251114T130058Z
DTSTART;VALUE=DATE:20260703
DTEND;VALUE=DATE:20260704
SUMMARY:Mündliche Abiturprüfung 2026 am St. Ursula
END:VEVENT
BEGIN:VEVENT
UID:stursulaoverview5ec91aac30eae62f4140325d09b9afd0@st-ursula-freiburg.de
CLASS:PUBLIC
DTSTAMP:20260420T140722Z
LAST-MODIFIED:20251121T122215Z
DTSTART;VALUE=DATE:20260706
DTEND;VALUE=DATE:20260707
SUMMARY:Hauptprobe der Musical-AG
END:VEVENT
BEGIN:VEVENT
UID:stursulaoverview84f7e69969dea92a925508f7c1f9579a@st-ursula-freiburg.de
CLASS:PUBLIC
DTSTAMP:20260420T140722Z
LAST-MODIFIED:20251114T130201Z
DTSTART;VALUE=DATE:20260706
DTEND;VALUE=DATE:20260707
SUMMARY:Mündliche Abiturprüfung 2026 am St. Ursula
END:VEVENT
BEGIN:VEVENT
UID:stursulaoverviewf9a40a4780f5e1306c46f1c8daecee3b@st-ursula-freiburg.de
CLASS:PUBLIC
DTSTAMP:20260420T140722Z
LAST-MODIFIED:20251121T122151Z
DTSTART:20260706T060000Z
DTEND:20260707T130000Z
SUMMARY:Seminarkurs SIA: Prüfungen für Klasse11
END:VEVENT
BEGIN:VEVENT
UID:stursulaoverviewa67f096809415ca1c9f112d96d27689b@st-ursula-freiburg.de
CLASS:PUBLIC
DTSTAMP:20260420T140722Z
LAST-MODIFIED:20251121T122035Z
DTSTART:20260706T085500Z
DTEND:20260706T092500Z
SUMMARY:Verfügungsstunde
END:VEVENT
BEGIN:VEVENT
UID:stursulaoverview19b650660b253761af189682e03501dd@st-ursula-freiburg.de
CLASS:PUBLIC
DTSTAMP:20260420T140722Z
LAST-MODIFIED:20251121T122253Z
DTSTART;VALUE=DATE:20260707
DTEND;VALUE=DATE:20260708
SUMMARY:Öffentliche Generalprobe der Musical-AG
END:VEVENT
BEGIN:VEVENT
UID:stursulaoverview1fc214004c9481e4c8073e85323bfd4b@st-ursula-freiburg.de
CLASS:PUBLIC
DTSTAMP:20260420T140722Z
LAST-MODIFIED:20251121T122325Z
DTSTART;VALUE=DATE:20260707
DTEND;VALUE=DATE:20260708
SUMMARY:Premiere der Musical-AG
END:VEVENT
BEGIN:VEVENT
UID:stursulaoverviewca8155f4d27f205953f9d3d7974bdd70@st-ursula-freiburg.de
CLASS:PUBLIC
DTSTAMP:20260420T140722Z
LAST-MODIFIED:20251121T122420Z
DTSTART;VALUE=DATE:20260708
DTEND;VALUE=DATE:20260709
SUMMARY:Sondervorstellungen für Förderschulen der
  Musical-AG
END:VEVENT
BEGIN:VEVENT
UID:stursulaoverviewede7e2b6d13a41ddf9f4bdef84fdc737@st-ursula-freiburg.de
CLASS:PUBLIC
DTSTAMP:20260420T140722Z
LAST-MODIFIED:20251121T122449Z
DTSTART;VALUE=DATE:20260708
DTEND;VALUE=DATE:20260709
SUMMARY:Derniere der Musical-AG
END:VEVENT
BEGIN:VEVENT
UID:stursulaoverview22fb0cee7e1f3bde58293de743871417@st-ursula-freiburg.de
CLASS:PUBLIC
DTSTAMP:20260420T140722Z
LAST-MODIFIED:20251121T122649Z
DTSTART:20260709T074500Z
DTEND:20260709T091500Z
SUMMARY:SchülerInnenratssitzung - alle Klassen- und
  KurssprecherInnen
END:VEVENT
BEGIN:VEVENT
UID:stursulaoverview43feaeeecd7b2fe2ae2e26d917b6477d@st-ursula-freiburg.de
CLASS:PUBLIC
DTSTAMP:20260420T140722Z
LAST-MODIFIED:20251121T122723Z
DTSTART;VALUE=DATE:20260710
DTEND;VALUE=DATE:20260711
SUMMARY:Noteneintragung der 9. Klasse
END:VEVENT
BEGIN:VEVENT
UID:stursulaoverview4b0a59ddf11c58e7446c9df0da541a84@st-ursula-freiburg.de
CLASS:PUBLIC
DTSTAMP:20260420T140722Z
LAST-MODIFIED:20251121T122838Z
DTSTART:20260710T153000Z
SUMMARY:Wortgottesdienst zur Abiturfeier - St. Martin
END:VEVENT
BEGIN:VEVENT
UID:stursulaoverview67d16d00201083a2b118dd5128dd6f59@st-ursula-freiburg.de
CLASS:PUBLIC
DTSTAMP:20260420T140722Z
LAST-MODIFIED:20251121T122916Z
DTSTART:20260711T160000Z
SUMMARY:Abiball der SchülerInnen
END:VEVENT
BEGIN:VEVENT
UID:stursulaoverview352407221afb776e3143e8a1a0577885@st-ursula-freiburg.de
CLASS:PUBLIC
DTSTAMP:20260420T140722Z
LAST-MODIFIED:20251121T123120Z
DTSTART:20260714T131500Z
DTEND:20260714T160000Z
SUMMARY:Notenkonverenz Klasse 9
END:VEVENT
BEGIN:VEVENT
UID:stursulaoverviewd516b13671a4179d9b7b458a6ebdeb92@st-ursula-freiburg.de
CLASS:PUBLIC
DTSTAMP:20260420T140722Z
LAST-MODIFIED:20251121T123212Z
DTSTART;VALUE=DATE:20260715
DTEND;VALUE=DATE:20260718
SUMMARY:Zeitraum für die Abschlussfahrt der 10e
END:VEVENT
BEGIN:VEVENT
UID:stursulaoverview7504adad8bb96320eb3afdd4df6e1f60@st-ursula-freiburg.de
CLASS:PUBLIC
DTSTAMP:20260420T140722Z
LAST-MODIFIED:20251121T123317Z
DTSTART:20260715T150000Z
DTEND:20260715T180000Z
SUMMARY:Seminarkurs SIA: Abschlussveranstaltungen der
  Klassen11
END:VEVENT
BEGIN:VEVENT
UID:stursulaoverview6c3cf77d52820cd0fe646d38bc2145ca@st-ursula-freiburg.de
CLASS:PUBLIC
DTSTAMP:20260420T140722Z
LAST-MODIFIED:20251121T123343Z
DTSTART;VALUE=DATE:20260716
DTEND;VALUE=DATE:20260720
SUMMARY:Zeitraum für die Abschlussfahrt der 10b
END:VEVENT
BEGIN:VEVENT
UID:stursulaoverview170c944978496731ba71f34c25826a34@st-ursula-freiburg.de
CLASS:PUBLIC
DTSTAMP:20260420T140722Z
LAST-MODIFIED:20251121T123426Z
DTSTART;VALUE=DATE:20260717
DTEND;VALUE=DATE:20260718
SUMMARY:Noteneintragung der Klassen 5-8 und 10 und 11
END:VEVENT
BEGIN:VEVENT
UID:stursulaoverview0a113ef6b61820daa5611c870ed8d5ee@st-ursula-freiburg.de
CLASS:PUBLIC
DTSTAMP:20260420T140722Z
LAST-MODIFIED:20251121T123743Z
DTSTART;VALUE=DATE:20260720
DTEND;VALUE=DATE:20260725
SUMMARY:Landschulheime der SchülerInnen der 9. Klassen
END:VEVENT
BEGIN:VEVENT
UID:stursulaoverview704afe073992cbe4813cae2f7715336f@st-ursula-freiburg.de
CLASS:PUBLIC
DTSTAMP:20260420T140722Z
LAST-MODIFIED:20251121T123506Z
DTSTART:20260720T085500Z
DTEND:20260720T092500Z
SUMMARY:Verfügungsstunde
END:VEVENT
BEGIN:VEVENT
UID:stursulaoverview7ce3284b743aefde80ffd9aec500e085@st-ursula-freiburg.de
CLASS:PUBLIC
DTSTAMP:20260420T140722Z
LAST-MODIFIED:20251121T123607Z
DTSTART:20260720T101500Z
DTEND:20260720T163000Z
SUMMARY:Notenkonverenzen der Klassen 5-8 und 10 und 11
END:VEVENT
BEGIN:VEVENT
UID:stursulaoverviewcfbce4c1d7c425baf21d6b6f2babe6be@st-ursula-freiburg.de
CLASS:PUBLIC
DTSTAMP:20260420T140722Z
LAST-MODIFIED:20251121T123950Z
DTSTART;VALUE=DATE:20260723
DTEND;VALUE=DATE:20260727
SUMMARY:Kursfahrten nach Paris der Französischkurse der K1
END:VEVENT
BEGIN:VEVENT
UID:stursulaoverview024d7f84fff11dd7e8d9c510137a2381@st-ursula-freiburg.de
CLASS:PUBLIC
DTSTAMP:20260420T140722Z
LAST-MODIFIED:20251121T123902Z
DTSTART;VALUE=DATE:20260723
DTEND;VALUE=DATE:20260727
SUMMARY:Zeitraum für die Abschlussfahrten der Klassen 10
  a/c/d
END:VEVENT
BEGIN:VEVENT
UID:stursulaoverviewd56b9fc4b0f1be8871f5e1c40c0067e7@st-ursula-freiburg.de
CLASS:PUBLIC
DTSTAMP:20260420T140722Z
LAST-MODIFIED:20251121T124127Z
DTSTART;VALUE=DATE:20260727
DTEND;VALUE=DATE:20260728
SUMMARY:Aufräumtag nach dem Schulhock
END:VEVENT
BEGIN:VEVENT
UID:stursulaoverviewc2aee86157b4a40b78132f1e71a9e6f1@st-ursula-freiburg.de
CLASS:PUBLIC
DTSTAMP:20260420T140722Z
LAST-MODIFIED:20251121T124057Z
DTSTART:20260727T140000Z
DTEND:20260727T190000Z
SUMMARY:Schulhock Klasse 5-11
END:VEVENT
BEGIN:VEVENT
UID:stursulaoverview20aee3a5f4643755a79ee5f6a73050ac@st-ursula-freiburg.de
CLASS:PUBLIC
DTSTAMP:20260420T140722Z
LAST-MODIFIED:20251121T124212Z
DTSTART:20260728T160000Z
SUMMARY:Jahresschlussfeier mit Kollegenverabschiedung
END:VEVENT
BEGIN:VEVENT
UID:stursulaoverview5705e1164a8394aace6018e27d20d237@st-ursula-freiburg.de
CLASS:PUBLIC
DTSTAMP:20260420T140722Z
LAST-MODIFIED:20251121T124324Z
DTSTART:20260729T070000Z
DTEND:20260729T080000Z
SUMMARY:Gottesdienst zum Schuljahresabschluss - Abgabefeier
  im Münster
END:VEVENT
BEGIN:VEVENT
UID:stursulaoverviewa64c94baaf368e1840a1324e839230de@st-ursula-freiburg.de
CLASS:PUBLIC
DTSTAMP:20260420T140722Z
LAST-MODIFIED:20251121T124417Z
DTSTART:20260729T081500Z
DTEND:20260729T091500Z
SUMMARY:Klassenlehrerstunde mit Zeugnisausgabe 5-11
END:VEVENT
BEGIN:VEVENT
UID:stursulaoverviewacf4b89d3d503d8252c9c4ba75ddbf6d@st-ursula-freiburg.de
CLASS:PUBLIC
DTSTAMP:20260420T140722Z
LAST-MODIFIED:20251121T124709Z
DTSTART;VALUE=DATE:20260730
DTEND;VALUE=DATE:20260914
SUMMARY:Sommmerferien
END:VEVENT
END:VCALENDAR
